{"text_format":"1","workbook":"xlsx","n_sheets":8,"sheets":["總表","資料表","彈性節數","校訂課程總表","校訂課程","九貫彈性節數","12年國教彈性節數","高市學校"],"not_rendered":{"charts":0,"images":1,"macros":1,"external_links":1,"defined_names":7,"comments":0,"pivot_tables":0},"unopened":[],"bounds":{"document_bytes":16777216,"sheet_cells":100000,"rows_first":2000,"rows_last":500,"rows_between":2000,"halvings":0,"cell_chars":16384,"cell_head_chars":4096},"cells_cut":0,"cells_raw":0,"read":"whole","date_system":"1900"}

{"sheet":"總表","index":0,"n_rows":82,"n_cols":34,"rows_kept":82,"cut":false,"hidden":false,"merged":[[24,2,25,2],[4,8,4,11],[3,4,3,12],[4,19,5,19],[3,14,4,14],[3,16,4,16],[3,15,4,15],[3,13,4,13],[24,4,24,6],[24,8,24,10],[54,4,54,6],[54,8,54,10],[74,4,74,6],[74,8,74,10],[6,16,11,16],[6,15,11,15]]}
["學年度:",109,"行政區:","楠梓區","學校:","楠梓國小",null,null,"(學校名稱:輸入步驟1.先選行政區/.再選學校&步驟2新舊課綱選取__在下方27列)",null,null,null,null,null,null,null,null,null,null,null,null,null,null,null,"Y"]
[null,null,null,null,null,null,null,null,null,null,null,null,null,null,null,null,null,null,null,null,null,null,null,null,null,"學校自行檢核參考用"]
[null,null,null,{"$f":"\"高雄市\" & D1 & F1 & B1 & \"學年度學生學習節數一覽表\"","v":"高雄市楠梓區楠梓國小109學年度學生學習節數一覽表"},null,null,null,null,null,null,null,null,null,null,null,null,null,null,null,null,null,null,null,null,null,"108學年度各年級_上課總節數統計表_與課程計畫軟體相同(正確節數以教育局公佈為準)"]
[null,null,null,null,"領域學習節數(A)",null,null,null,null,null,null,null,null,"彈性學習節數(B)/","\n(C=A+B/⑫B)","課程發展委員會通過日期","縣市政府審核",null,"非學習節數",null,null,null,null,null,null,null,"上學期"," 放假前",null,"放假後(扣掉放假日)",null,null,"正確"]
[null,null,null,"   領域","語文",null,null,null,"生活",null,null,null,null,null,null,null,null,null,"學生是否自由參加","局公佈年度總節數",null,null,null,null,null,"流水號","年級"," 上學期","下學期","上學期99天","下學期97天","備註","本校中年級週四或週五半天選取(高年級也要選取Y)","六年級下學期上課天數"]
["行政區","校名","課綱類別","   節數\n\n年級","國語文","本土\n語文/  ⑫新住民語文 ","英語","數學","生活/社會","藝術與人文/\n⑫藝術 ","自然與科技/\n⑫自然科學 ","綜合活動","健康與\n體育","⑫彈性學習課程(⑫B)","學習總節數","(請輸入西元日期格式如2020/6/20)","通過日期與文號","正確檢核","(是打ˇ，不是打×)",null,null,null,null,null,null,1,"一",506,483,456,451,null,"Y"]
[{"$f":"IF($D$1=\"\",\"\",$D$1)","v":"楠梓區"},{"$f":"IF($F$1=\"\",\"\",$F$1)","v":"楠梓國小"},"⑫","一",{"$f":"E27*$E$21","v":6},{"$f":"F27*$E$21","v":1},{"$f":"G27*$E$21","v":0},4,6,0,0,0,3,3,{"$f":"SUM(E7:N7)","v":23},"2020-05-27",null,{"$f":"IF(E7=\"\",\"\",IF(O7=T7,\"正確\",\"錯誤\"))","v":"正確"},null,{"$f":"23*$E$21","v":23},null,null,null,null,null,2,"二",506,483,456,451,null,"Y"]
["楠梓區","楠梓國小","⑫","二",{"$f":"E28*$E$21","v":6},{"$f":"F28*$E$21","v":1},0,4,6,0,0,0,3,3,23,null,null,"正確",null,{"$f":"23*$E$21","v":23},null,null,null,null,null,3,"三",638,609,576,565," 週五半天者","Y"]
["楠梓區","楠梓國小","➈","三",{"$f":"E29*$E$21","v":5},1,1,3,3,3,3,3,3,4,29,null,null,"正確",null,{"$f":"29*$E$21","v":29},null,null,null,null,null,4,"三",638,609,576,562," 週四半天者"]
["楠梓區","楠梓國小","➈","四",5,1,1,3,3,3,3,3,3,4,29,null,null,"正確",null,{"$f":"29*$E$21","v":29},null,null,null,null,null,5,"四",638,609,576,565," 週五半天者","Y"]
["楠梓區","楠梓國小","➈","五",6,1,1,4,3,3,3,3,3,5,32,null,null,"正確",null,{"$f":"32*$E$21","v":32},null,null,null,null,null,6,"四",638,609,576,562," 週四半天者"]
["楠梓區","楠梓國小","➈","六",{"$f":"E32*$E$20","v":6},{"$f":"F32*$E$20","v":1},1,{"$f":"H32*$E$20","v":4},3,3,3,3,{"$f":"M32*$E$20","v":3},5,32,null,null,"正確",null,{"$f":"32*$E$20","v":32},null,null,null,null,null,7,"五",704,672,636,619,null,"Y"]
[null,null,null,null,null,null,null,null,null,null,null,null,null,null,null,null,null,null,null,null,null,null,null,null,null,8,"六",704,576,636,523,"18週,第1天(日)"]
[null,null,"承辦人:",null,null,"組長:",null,null,null,null,"主任:",null,null,null,"校長:",null,null,null,null,null,null,null,null,null,null,9,"六",704,576,636,523,"18週,第2天(一)","Y",82]
[null,null,null,null,null,null,null,null,null,null,null,null,null,null,null,null,null,null,null,null,null,null,null,null,null,10,"六",704,576,636,530,"18週,第3天(二)",null,83]
[null,null,null,null,null,null,null,null,null,null,null,null,null,null,null,null,null,null,null,null,null,null,null,null,null,11,"六",704,576,636,534,"18週,第4天(三)",null,84]
[null,null,null,null,null,null,null,null,null,null,null,null,null,null,null,null,null,null,null,null,null,null,null,null,null,12,"六",704,576,636,541,"18週,第5天(四)",null,85]
[null,null,null,null,null,null,null,null,null,null,null,null,null,null,null,null,null,null,null,null,null,null,null,null,null,13,"六",704,576,636,548,"18週,第6天(五)",null,86]
[null,null,"與課程計畫軟體同步",null,null,null,null,null,null,null,null,null,null,null,null,null,null,null,null,null,null,null,null,null,null,14,"六",704,576,636,555,"18週,第7天(六)",null,87]
[null,null,null,"6年級全學期總週次:",1,null,null,null,null,null,null,"107學年度","108學年度"]
[null,null,null,"1~5年級全學期總週次:",1,null,null,null,null,null,"低:",20,20]
[null,null,null,null,null,"部規定__九貫/12年國教__課程標準領域節數:",null,null,null,null,"中",25,25]
[null,"表一",null,null,null,null,"(有顏色儲存格各校可自行更正)",null,null,null,"高",27,26]
[null,null,"*","*.",null,"各週節數參考(以學校課發會通過為準),節數要正確上方報表才會正確"]
[null,"⑫","步驟2:新/舊_課綱選取","項目(節)","語文",null,null,null,"生活"]
[null,"➈",null,"年級","國語文","本土\n語言","英語","數學","生活/社會","藝術與人文","自然與科技","綜合活動","健康與體育","彈性學習節數","學習總節數","領域節數","領域節數是否正確"]
[null,null,"新","一",6,1,0,4,6,null,null,0,3,3,{"$f":"SUM(E27:N27)","v":23},{"$f":"IF(SUM(E27:M27)<>M21,\"錯誤\",SUM(E27:M27))","v":20},{"$f":"IF(AND(C27=\"新\",SUM(E27:M27)=20,N27=3),\"正確\",IF(AND(C27=\"舊\",SUM(E27:M27)=20,N27=3),\"正確\",\"錯誤\"))","v":"正確"}]
[null,null,"新","二",6,1,0,4,6,null,null,null,3,3,23,{"$f":"IF(AND(C28=\"新\",(SUM(E28:M28)=$M$21)),$M$21,IF(AND(C28=\"舊\",SUM(E28:M28)=$L$21),$L$21,\"錯誤\"))","v":20},{"$f":"IF(AND(C28=\"新\",SUM(E28:M28)=20,N28=3),\"正確\",IF(AND(C28=\"舊\",SUM(E28:M28)=20,N28=3),\"正確\",\"錯誤\"))","v":"正確"}]
[null,null,"舊","三",5,1,1,3,3,3,3,3,3,4,29,{"$f":"IF(AND(C29=\"新\",(SUM(E29:M29)=$M$22)),$M$22,IF(AND(C29=\"舊\",SUM(E29:M29)=$L$22),$L$22,\"錯誤\"))","v":25},{"$f":"IF(AND(C29=\"新\",SUM(E29:M29)=25,N29=4),\"正確\",IF(AND(C29=\"舊\",SUM(E29:M29)=25,N29=4),\"正確\",\"錯誤\"))","v":"正確"}]
[null,null,"舊","四",5,1,1,3,3,3,3,3,3,4,29,{"$f":"IF(AND(C30=\"新\",(SUM(E30:M30)=$M$22)),$M$22,IF(AND(C30=\"舊\",SUM(E30:M30)=$L$22),$L$22,\"錯誤\"))","v":25},{"$f":"IF(AND(C30=\"新\",SUM(E30:M30)=25,N30=4),\"正確\",IF(AND(C30=\"舊\",SUM(E30:M30)=25,N30=4),\"正確\",\"錯誤\"))","v":"正確"}]
[null,null,"舊","五",6,1,1,4,3,3,3,3,3,5,32,{"$f":"IF(AND(C31=\"新\",(SUM(E31:M31)=$M$23)),$M$23,IF(AND(C31=\"舊\",SUM(E31:M31)=$L$23),$L$23,\"錯誤\"))","v":27},{"$f":"IF(AND(C31=\"新\",SUM(E31:M31)=26,N31=6),\"正確\",IF(AND(C31=\"舊\",SUM(E31:M31)=27,N31=5),\"正確\",\"錯誤\"))","v":"正確"}]
[null,null,"舊","六",6,1,1,4,3,3,3,3,3,5,32,{"$f":"IF(AND(C32=\"新\",(SUM(E32:M32)=$M$23)),$M$23,IF(AND(C32=\"舊\",SUM(E32:M32)=$L$23),$L$23,\"錯誤\"))","v":27},{"$f":"IF(AND(C32=\"新\",SUM(E32:M32)=26,N32=6),\"正確\",IF(AND(C32=\"舊\",SUM(E32:M32)=27,N32=5),\"正確\",\"錯誤\"))","v":"正確"}]
[]
[null,"※※前置作業:"," 1.先開一個資料夾，檔名\"節數報表\"四個字，不可增減修改此檔名。  2.將\"109高雄市各校學習節數報表6.0版\"檔案及課程計畫六個年級子檔  共7個檔案  放進\"節數報表\"資料夾。"]
[]
[null,null,"※開啟學習節數報表6.0版檔案   <總表>工作頁"]
[null,"一.","填表說明:各年級各領域節數,如有錯誤,請自行調整,上方總節數會自動更新"]
[null,null,null,"步驟1:","  1.先選行政區    2.再選學校"]
[null,null,null,"步驟2:","調整新舊課綱__確認[表一]為本校[課發會]確認各領域節數,如有錯請修正各週節數__上方總節數會自動更新_確認各年級總節數全部[正確]"]
[null,null,null,"步驟3:","列印報表蓋上職章轉PDF檔"]
[null,null,"(步驟4和步驟5__請點選[資料表]工作表執行)","步驟4:","[總表]轉成資料表"]
[null,null,null,"步驟5:","匯出[資料表]轉成檔案"]
[null,null,null,"步驟6:","到[校訂課程總表]工作頁執行\"匯入6個年級子檔\"(按綠色底功能鍵)"]
[null,null,"(步驟7和步驟8__請點選[校定課程]工作表執行)","步驟7:","[校訂課程總表]轉到[校定課程]工作表"]
[null,null,null,"步驟8:","匯出[校定課程]工作表轉成檔案"]
[null,null,null,null,"將步驟5&步驟8_匯出的檔案_&PDF檔,3個檔案送教育局"]
[null,null,null,"OK"]
[null,"二.","完成後請寄回局承辦人信箱:"]
[null,null,null,null,"非常謝謝主任或承辦人的合作..感恩.."]
[]
[]
[]
[null,null,"107年舊版本"]
[null,null,null,"請注意:各週節數參考(以學校課發會通過為準)(在此修正節數,再選新舊版本)"]
[null,null,"項目(節)",null,"語文",null,null,null,"生活"]
[null,null,"年級","國語文","本土\n語言","英語","數學","社會","藝術與人文","自然與科技","健康與體育","綜合活動","彈性學習節數","學習總節數"]
[null,null,"一",5,1,0,3,7,null,null,2,2,3,{"$f":"SUM(D57:M57)","v":23}]
[null,null,"二",5,1,0,3,7,null,null,2,2,3,23]
[null,null,"三",5,1,1,3,3,3,3,3,3,4,29]
[null,null,"四",5,1,1,3,3,3,3,3,3,4,29]
[null,null,"五",6,1,1,4,3,3,3,3,3,5,32]
[null,null,"六",6,1,1,4,3,3,3,3,3,5,32]
[]
[]
[]
[]
[]
[]
[]
[]
[]
[]
[null,null,"108年以後新版本"]
[null,null,null,null,"各週節數參考(以學校課發會通過為準)"]
[null,null,"項目(節)",null,"語文",null,null,null,"生活課程"]
[null,null,"年級","國語文","本土\n語文","英語文","數學","社會","藝術","自然科學","健康與體育","綜合活動","彈性學習課程","學習總節數"]
[null,null,"一",6,1,0,4,6,null,null,3,0,3,{"$f":"SUM(D77:M77)","v":23}]
[null,null,"二",6,1,0,4,6,null,null,3,0,3,23]
[null,null,"三",5,1,1,4,3,3,3,3,2,4,29]
[null,null,"四",5,1,1,4,3,3,3,3,2,4,29]
[null,null,"五",5,1,2,4,3,3,3,3,2,6,32]
[null,null,"六",5,1,2,4,3,3,3,3,2,6,32]

{"sheet":"資料表","index":1,"n_rows":7,"n_cols":17,"rows_kept":7,"cut":false,"hidden":false,"merged":[]}
["行政區","校名","課綱類別","年級節數\n\n","國語文","本土語文","英語","數學","生活/社會","藝術與人文","自然科學 ","綜合活動","健康與\n體育","彈性學習課程","學習總節數","課程發展委員會通過日期","縣市政府審核"]
["楠梓區","楠梓國小","⑫","一",6,1,0,4,6,0,0,0,3,3,23,"2020-05-27"]
["楠梓區","楠梓國小","⑫","二",6,1,0,4,6,0,0,0,3,3,23,"2020-05-27"]
["楠梓區","楠梓國小","➈","三",5,1,1,3,3,3,3,3,3,4,29,"2020-05-27"]
["楠梓區","楠梓國小","➈","四",5,1,1,3,3,3,3,3,3,4,29,"2020-05-27"]
["楠梓區","楠梓國小","➈","五",6,1,1,4,3,3,3,3,3,5,32,"2020-05-27"]
["楠梓區","楠梓國小","➈","六",6,1,1,4,3,3,3,3,3,5,32,"2020-05-27"]

{"sheet":"彈性節數","index":2,"n_rows":15,"n_cols":21,"rows_kept":15,"cut":false,"hidden":true,"merged":[[3,0,4,0],[3,1,4,1],[3,8,4,8],[3,9,4,9],[3,11,4,11],[3,3,4,3],[3,2,4,2],[3,4,4,4],[3,5,4,5],[3,6,4,6],[3,7,4,7],[3,19,4,19],[3,15,4,15],[3,16,4,16],[3,10,4,10],[3,12,4,12],[3,13,4,13],[3,14,4,14],[3,17,4,17],[3,18,4,18]]}
[]
[null,null,null,null,"九年一貫&12年國教課程__彈性學習節數總表",null,null,null,null,null,"(可以手動輸入_儲存格如要換行,按Alt+Enter)"]
[]
["行政區","校名","課綱類別","年級","全校/年級_彈性課程名稱","節數","A2彈性課程名稱","節數","A3彈性課程名稱","節數","A4彈性課程名稱","節數","A5彈性課程名稱","節數","A6彈性課程名稱","節數","A7彈性課程名稱","節數","全學年彈性總節數","節數檢核"]
[]
[{"$f":"IF(總表!$D$1=\"\",\"\",總表!$D$1)","v":"楠梓區"},{"$f":"IF(總表!$F$1=\"\",\"\",總表!$F$1)","v":"楠梓國小"},"⑫","一",null,null,null,null,null,null,null,null,null,null,null,null,null,null,{"$f":"SUM(E6:R6)","v":0},{"$f":"IF(OR(S6=\"\",S6=0),\"\",IF(S6=U6,\"正確\",\"錯誤\"))","v":""},{"$f":"總表!N27*總表!$E$21","v":3}]
[{"$f":"IF(總表!$D$1=\"\",\"\",總表!$D$1)","v":"楠梓區"},{"$f":"IF(總表!$F$1=\"\",\"\",總表!$F$1)","v":"楠梓國小"},"⑫","二",null,null,null,null,null,null,null,null,null,null,null,null,null,null,{"$f":"SUM(E7:R7)","v":0},"",{"$f":"總表!N28*總表!$E$21","v":3}]
[{"$f":"IF(總表!$D$1=\"\",\"\",總表!$D$1)","v":"楠梓區"},{"$f":"IF(總表!$F$1=\"\",\"\",總表!$F$1)","v":"楠梓國小"},"➈","三\n",null,null,null,null,null,null,null,null,null,null,null,null,null,null,{"$f":"SUM(F8:R8)","v":0},"",{"$f":"總表!N29*總表!$E$21","v":4}]
[{"$f":"IF(總表!$D$1=\"\",\"\",總表!$D$1)","v":"楠梓區"},{"$f":"IF(總表!$F$1=\"\",\"\",總表!$F$1)","v":"楠梓國小"},"➈","四\n",null,null,null,null,null,null,null,null,null,null,null,null,null,null,{"$f":"SUM(F9:R9)","v":0},"",{"$f":"總表!N30*總表!$E$21","v":4}]
[{"$f":"IF(總表!$D$1=\"\",\"\",總表!$D$1)","v":"楠梓區"},{"$f":"IF(總表!$F$1=\"\",\"\",總表!$F$1)","v":"楠梓國小"},"➈","五\n",null,null,null,null,null,null,null,null,null,null,null,null,null,null,{"$f":"SUM(F10:R10)","v":0},"",{"$f":"總表!N31*總表!$E$21","v":5}]
[{"$f":"IF(總表!$D$1=\"\",\"\",總表!$D$1)","v":"楠梓區"},{"$f":"IF(總表!$F$1=\"\",\"\",總表!$F$1)","v":"楠梓國小"},"➈","六\n",null,null,null,null,null,null,null,null,null,null,null,null,null,null,{"$f":"SUM(F11:R11)","v":0},"",{"$f":"總表!N32*總表!$E$20","v":5}]
[null,null,null,null,null,null,null,null,null,null,null,null,null,null,null,null,null,null,null,null,1280]
[]
[]
[null,null,null,"說明:新開一個新[資料夾_資料夾命名一定要有__節數報表_4個關鍵字]放入此報表檔案和[課程計畫6個子檔案]按[匯入,可一鍵完成彈性項目名稱和節數填報"]

{"sheet":"校訂課程總表","index":3,"n_rows":11,"n_cols":10,"rows_kept":11,"cut":false,"hidden":false,"merged":[[3,0,4,0],[3,1,4,1],[3,2,4,2],[3,3,4,3],[3,7,4,7],[3,8,4,8],[3,9,4,9],[3,4,4,4],[3,5,4,5],[3,6,4,6]]}
[]
[null,null,null,"九年一貫&12年國教課程__彈性學習節數總表",null,null,null,"也可以在_(E6:J11)儲存格手動輸入校訂課程名稱,如要換行,按Alt+Enter"]
[]
["行政區","校名","課綱類別","年級","A2彈性課程名稱","A3彈性課程名稱","A4彈性課程名稱","A5彈性課程名稱","A6彈性課程名稱","A7彈性課程名稱"]
[]
[{"$f":"IF(總表!$D$1=\"\",\"\",總表!$D$1)","v":"楠梓區"},{"$f":"IF(總表!$F$1=\"\",\"\",總表!$F$1)","v":"楠梓國小"},"⑫","一","綠色迪士尼d","愛閱時光","小小世界通"]
[{"$f":"IF(總表!$D$1=\"\",\"\",總表!$D$1)","v":"楠梓區"},{"$f":"IF(總表!$F$1=\"\",\"\",總表!$F$1)","v":"楠梓國小"},"⑫","二","綠色迪士尼d","愛閱時光","小小世界通"]
[{"$f":"IF(總表!$D$1=\"\",\"\",總表!$D$1)","v":"楠梓區"},{"$f":"IF(總表!$F$1=\"\",\"\",總表!$F$1)","v":"楠梓國小"},"➈","三","校本課程d","學習扶助","資訊教育","英語教育"]
[{"$f":"IF(總表!$D$1=\"\",\"\",總表!$D$1)","v":"楠梓區"},{"$f":"IF(總表!$F$1=\"\",\"\",總表!$F$1)","v":"楠梓國小"},"➈","四","校本課程d","資訊教育","英語教育","學習扶助"]
[{"$f":"IF(總表!$D$1=\"\",\"\",總表!$D$1)","v":"楠梓區"},{"$f":"IF(總表!$F$1=\"\",\"\",總表!$F$1)","v":"楠梓國小"},"➈","五","校本課程d","學習扶助","資訊教育","英語教育"]
[{"$f":"IF(總表!$D$1=\"\",\"\",總表!$D$1)","v":"楠梓區"},{"$f":"IF(總表!$F$1=\"\",\"\",總表!$F$1)","v":"楠梓國小"},"➈","六","校本課程d","學習扶助","資訊教育","英語教育"]

{"sheet":"校訂課程","index":4,"n_rows":7,"n_cols":10,"rows_kept":7,"cut":false,"hidden":false,"merged":[]}
["行政區","校名","課綱類別","年級","A2彈性課程名稱","A3彈性課程名稱","A4彈性課程名稱","A5彈性課程名稱","A6彈性課程名稱","A7彈性課程名稱"]
["楠梓區","楠梓國小","⑫","一","綠色迪士尼d","愛閱時光","小小世界通"]
["楠梓區","楠梓國小","⑫","二","綠色迪士尼d","愛閱時光","小小世界通"]
["楠梓區","楠梓國小","➈","三","校本課程d","學習扶助","資訊教育","英語教育"]
["楠梓區","楠梓國小","➈","四","校本課程d","資訊教育","英語教育","學習扶助"]
["楠梓區","楠梓國小","➈","五","校本課程d","學習扶助","資訊教育","英語教育"]
["楠梓區","楠梓國小","➈","六","校本課程d","學習扶助","資訊教育","英語教育"]

{"sheet":"九貫彈性節數","index":5,"n_rows":20,"n_cols":14,"rows_kept":20,"cut":false,"hidden":true,"merged":[[11,1,13,1],[14,1,16,1],[17,1,19,1],[3,1,4,1],[3,2,4,2],[5,1,7,1],[8,1,10,1],[3,5,4,5],[3,3,4,3],[3,4,4,4],[3,9,4,9],[3,6,4,6],[3,7,4,7],[3,8,4,8]]}
[]
[null,null,null,"九年一貫課程__彈性學習__節數",null,null,null,"(儲存格如要換行,按Alt+Enter)"]
[]
[null,"年級","學期","校本課程名稱","節數","補救教學領域","節數","其他活動名稱","節數","全學年彈性總節數"]
[]
[null,"二","上",null,null,null,null,null,null,{"$f":"E6+G6+I6","v":0}]
[null,null,"下",null,null,null,null,null,null,{"$f":"E7+G7+I7","v":0}]
[null,null,"節數小計",null,{"$f":"E6+E7","v":0},null,{"$f":"G6+G7","v":0},null,{"$f":"I6+I7","v":0},{"$f":"J6+J7","v":0},{"$f":"IF(J8=0,\"\",IF(J8=N8,\"正確\",IF(J8<N8,\"節數太少\",\"節數太多\")))","v":""},null,null,129]
[null,"三\n","上",null,null,null,null,null,null,{"$f":"E9+G9+I9","v":0}]
[null,null,"下",null,null,null,null,null,null,0]
[null,null,"節數小計",null,{"$f":"E9+E10","v":0},null,{"$f":"G9+G10","v":0},null,{"$f":"I9+I10","v":0},{"$f":"J9+J10","v":0},{"$f":"IF(J11=0,\"\",IF(J11=N11,\"正確\",IF(J11<N11,\"節數太少\",\"節數太多\")))","v":""},null,null,172]
[null,"四\n","上",null,null,null,null,null,null,0]
[null,null,"下",null,null,null,null,null,null,0]
[null,null,"節數小計",null,{"$f":"E12+E13","v":0},null,{"$f":"G12+G13","v":0},null,{"$f":"I12+I13","v":0},{"$f":"J12+J13","v":0},{"$f":"IF(J14=0,\"\",IF(J14=N14,\"正確\",IF(J14<N14,\"節數太少\",\"節數太多\")))","v":""},null,null,172]
[null,"五\n","上",null,null,null,null,null,null,0]
[null,null,"下",null,null,null,null,null,null,0]
[null,null,"節數小計",null,{"$f":"E15+E16","v":0},null,{"$f":"G15+G16","v":0},null,{"$f":"I15+I16","v":0},{"$f":"J15+J16","v":0},{"$f":"IF(J17=0,\"\",IF(J17=N17,\"正確\",IF(J17<N17,\"節數太少\",\"節數太多\")))","v":""},null,null,215]
[null,"六\n","上",null,null,null,null,null,null,{"$f":"E18+G18+I18","v":0}]
[null,null,"下",null,null,null,null,null,null,{"$f":"E19+G19+I19","v":0}]
[null,null,"節數小計",null,{"$f":"E18+E19","v":0},null,{"$f":"G18+G19","v":0},null,{"$f":"I18+I19","v":0},{"$f":"J18+J19","v":0},{"$f":"IF(J20=0,\"\",IF(J20=N20,\"正確\",IF(J20<N20,\"節數太少\",\"節數太多\")))","v":""},null,null,215]

{"sheet":"12年國教彈性節數","index":6,"n_rows":23,"n_cols":14,"rows_kept":23,"cut":false,"hidden":true,"merged":[[17,1,19,1],[20,1,22,1],[3,9,4,9],[3,10,4,10],[3,7,4,7],[3,8,4,8],[5,1,7,1],[3,11,4,11],[8,1,10,1],[11,1,13,1],[14,1,16,1],[3,1,4,1],[3,2,4,2],[3,3,4,3],[3,4,4,4],[3,5,4,5],[3,6,4,6]]}
[]
[null,null,null,"     十二年國教__彈性學習__節數",null,null,null,"(儲存格如要換行,按Alt+Enter)"]
[]
[null,"年級","學期","1.統整性領域名稱","節數","2.社團技藝領域名稱","節數","3.特殊需求課程名稱","節數","4.其他活動課程名稱","節數","全學年彈性總節數"]
[]
[null,"一","上",null,null,null,null,null,null,null,null,{"$f":"E6+G6+I6+K6","v":0}]
[null,null,"下",null,null,null,null,null,null,null,null,{"$f":"E7+G7+I7+K7","v":0}]
[null,null,"節數小計",null,{"$f":"E6+E7","v":0},null,{"$f":"G6+G7","v":0},null,{"$f":"I6+I7","v":0},null,{"$f":"K6+K7","v":0},{"$f":"L6+L7","v":0},{"$f":"IF(L8=0,\"\",IF(L8=N8,\"正確\",IF(L8<N8,\"節數太少\",\"節數太多\")))","v":""},129]
[null,"二","上",null,null,null,null,null,null,null,null,{"$f":"E9+G9+I9+K9","v":0}]
[null,null,"下",null,null,null,null,null,null,null,null,{"$f":"E10+G10+I10+K10","v":0}]
[null,null,"節數小計",null,{"$f":"E9+E10","v":0},null,{"$f":"G9+G10","v":0},null,{"$f":"I9+I10","v":0},null,{"$f":"K9+K10","v":0},{"$f":"L9+L10","v":0},{"$f":"IF(L11=0,\"\",IF(L11=N11,\"正確\",IF(L11<N11,\"節數太少\",\"節數太多\")))","v":""}]
[null,"三\n","上",null,null,null,null,null,null,null,null,0]
[null,null,"下",null,null,null,null,null,null,null,null,0]
[null,null,"節數小計",null,{"$f":"E12+E13","v":0},null,{"$f":"G12+G13","v":0},null,{"$f":"I12+I13","v":0},null,{"$f":"K12+K13","v":0},{"$f":"L12+L13","v":0},{"$f":"IF(L14=0,\"\",IF(L14=N14,\"正確\",IF(L14<N14,\"節數太少\",\"節數太多\")))","v":""}]
[null,"四\n","上",null,null,null,null,null,null,null,null,0]
[null,null,"下",null,null,null,null,null,null,null,null,0]
[null,null,"節數小計",null,{"$f":"E15+E16","v":0},null,{"$f":"G15+G16","v":0},null,{"$f":"I15+I16","v":0},null,{"$f":"K15+K16","v":0},{"$f":"L15+L16","v":0},{"$f":"IF(L17=0,\"\",IF(L17=N17,\"正確\",IF(L17<N17,\"節數太少\",\"節數太多\")))","v":""}]
[null,"五\n","上",null,null,null,null,null,null,null,null,0]
[null,null,"下",null,null,null,null,null,null,null,null,0]
[null,null,"節數小計",null,{"$f":"E18+E19","v":0},null,{"$f":"G18+G19","v":0},null,{"$f":"I18+I19","v":0},null,{"$f":"K18+K19","v":0},{"$f":"L18+L19","v":0},{"$f":"IF(L20=0,\"\",IF(L20=N20,\"正確\",IF(L20<N20,\"節數太少\",\"節數太多\")))","v":""}]
[null,"六\n","上",null,null,null,null,null,null,null,null,0]
[null,null,"下",null,null,null,null,null,null,null,null,0]
[null,null,"節數小計",null,{"$f":"E21+E22","v":0},null,{"$f":"G21+G22","v":0},null,{"$f":"I21+I22","v":0},null,{"$f":"K21+K22","v":0},{"$f":"L21+L22","v":0},{"$f":"IF(L23=0,\"\",IF(L23=N23,\"正確\",IF(L23<N23,\"節數太少\",\"節數太多\")))","v":""}]

{"sheet":"高市學校","index":7,"n_rows":252,"n_cols":3,"rows_kept":252,"cut":false,"hidden":true,"merged":[]}
[]
[]
[null,null,"○○區"]
["行政區","學校","(學校選取)"]
["三民區","三民國小"]
[null,"鼎金國小"]
[null,"愛國國小"]
[null,"十全國小"]
[null,"正興國小"]
[null,"博愛國小"]
[null,"獅湖國小"]
[null,"民族國小"]
[null,"莊敬國小"]
[null,"光武國小"]
[null,"東光國小"]
[null,"河濱國小"]
[null,"陽明國小"]
[null,"河堤國小"]
["大社區","大社國小"]
[null,"嘉誠國小"]
[null,"觀音國小"]
["大寮區","永芳國小"]
[null,"翁園國小"]
[null,"忠義國小"]
[null,"昭明國小"]
[null,"潮寮國小"]
[null,"中庄國小"]
[null,"溪寮國小"]
[null,"大寮國小"]
[null,"山頂國小"]
[null,"後庄國小"]
["大樹區","大樹國小"]
[null,"九曲國小"]
[null,"溪埔國小"]
[null,"姑山國小"]
[null,"水寮國小"]
[null,"小坪國小"]
[null,"興田國小"]
[null,"龍目國小"]
[null,"私立義大國際高中附設國小"]
["小港區","小港國小"]
[null,"鳳林國小"]
[null,"青山國小"]
[null,"太平國小"]
[null,"鳳鳴國小"]
[null,"坪頂國小"]
[null,"二苓國小"]
[null,"桂林國小"]
[null,"漢民國小"]
[null,"華山國小"]
[null,"港和國小"]
[null,"鳳陽國小"]
[null,"明義國小"]
["仁武區","仁武國小"]
[null,"烏林國小"]
[null,"八卦國小"]
[null,"灣內國小"]
[null,"登發國小"]
[null,"竹後國小"]
["內門區","內門國小"]
[null,"觀亭國小"]
[null,"溝坪國小"]
[null,"金竹國小"]
[null,"木柵國小"]
[null,"西門國小"]
[null,"景義國小"]
["六龜區","六龜國小"]
[null,"荖濃國小"]
[null,"新發國小"]
[null,"龍興國小"]
[null,"新威國小"]
[null,"寶來國小"]
["左營區","左營國小"]
[null,"舊城國小"]
[null,"新莊國小"]
[null,"新民國小"]
[null,"明德國小"]
[null,"勝利國小"]
[null,"屏山國小"]
[null,"永清國小"]
[null,"新上國小"]
[null,"福山國小"]
[null,"文府國小"]
[null,"新光國小"]
["永安區","永安國小"]
[null,"新港國小"]
[null,"維新國小"]
["田寮區","新興國小"]
[null,"崇德國小"]
["甲仙區","甲仙國小"]
[null,"小林國小"]
[null,"寶隆國小"]
["杉林區","月美國小"]
[null,"上平國小"]
[null,"新庄國小"]
[null,"集來國小"]
[null,"杉林國小"]
[null,"巴楠花部落中小學"]
["那瑪夏","民生國小"]
[null,"那瑪夏區民權國小"]
["岡山區","岡山國小"]
[null,"前峰國小"]
[null,"嘉興國小"]
[null,"兆湘國小"]
[null,"後紅國小"]
[null,"和平國小"]
[null,"竹圍國小"]
[null,"壽天國小"]
["林園區","林園國小"]
[null,"中芸國小"]
[null,"港埔國小"]
[null,"金潭國小"]
[null,"汕尾國小"]
[null,"王公國小"]
["阿蓮區","阿蓮國小"]
[null,"中路國小"]
[null,"復安國小"]
["前金區","前金國小"]
[null,"建國國小"]
["前鎮區","前鎮國小"]
[null,"獅甲國小"]
[null,"仁愛國小"]
[null,"樂群國小"]
[null,"愛群國小"]
[null,"復興國小"]
[null,"瑞豐國小"]
[null,"明正國小"]
[null,"光華國小"]
[null,"瑞祥國小"]
[null,"鎮昌國小"]
[null,"佛公國小"]
[null,"民權國小"]
[null,"紅毛港國小"]
["美濃區","美濃國小"]
[null,"東門國小"]
[null,"吉洋國小"]
[null,"龍肚國小"]
[null,"中壇國小"]
[null,"廣興國小"]
[null,"龍山國小"]
[null,"福安國小"]
[null,"吉東國小"]
["苓雅區","苓洲國小"]
[null,"苓雅區成功國小"]
[null,"五權國小"]
[null,"凱旋國小"]
[null,"四維國小"]
[null,"福東國小"]
[null,"中正國小"]
[null,"福康國小"]
[null,"國立高師大附設國小"]
["茂林區","茂林國小"]
[null,"多納國小"]
["茄萣區","茄萣國小"]
[null,"成功國小"]
[null,"砂崙國小"]
[null,"興達國小"]
["桃源區","桃源國小"]
[null,"建山國小"]
[null,"興中國小"]
[null,"寶山國小"]
[null,"樟山國小"]
["梓官區","梓官國小"]
[null,"蚵寮國小"]
["鳥松區","鳥松國小"]
[null,"仁美國小"]
[null,"大華國小"]
["湖內區","文賢國小"]
[null,"明宗國小"]
[null,"大湖國小"]
[null,"海埔國小"]
[null,"三侯國小"]
["新興區","新興國小2"]
[null,"大同國小"]
[null,"信義國小"]
[null,"七賢國小"]
["楠梓區","楠梓國小"]
[null,"後勁國小"]
[null,"援中國小"]
[null,"右昌國小"]
[null,"莒光國小"]
[null,"加昌國小"]
[null,"楠陽國小"]
[null,"翠屏國(中)小"]
[null,"油廠國小"]
["路竹區","路竹國小"]
[null,"大社國小2"]
[null,"下坑國小"]
[null,"竹滬國小"]
[null,"三埤國小"]
[null,"北嶺國小"]
[null,"一甲國小"]
[null,"蔡文國小"]
["鼓山區","鼓山區鼓山國小"]
[null,"鼓岩國小"]
[null,"內惟國小"]
[null,"鼓山區中山國小"]
[null,"壽山國小"]
[null,"龍華國小"]
[null,"九如國小"]
[null,"私立明誠高中附設國小"]
[null,"私立大榮高中附設國小"]
[null,"私立中華藝校附設國小"]
["旗山區","旗山國小"]
[null,"溪洲國小"]
[null,"鼓山國小"]
[null,"圓潭國小"]
[null,"旗尾國小"]
[null,"嶺口國小"]
["旗津區","旗津國小"]
[null,"大汕國小"]
[null,"中洲國小"]
["鳳山區","鳳山國小"]
[null,"大東國小"]
[null,"文山國小"]
[null,"中正國小2"]
[null,"五甲國小"]
[null,"曹公國小"]
[null,"誠正國小"]
[null,"南成國小"]
[null,"五福國小"]
[null,"中山國小"]
[null,"新甲國小"]
[null,"忠孝國小"]
[null,"鎮北國小"]
[null,"鳳西國小"]
[null,"文德國小"]
[null,"瑞興國小"]
[null,"正義國小"]
[null,"福誠國小"]
[null,"過埤國小"]
[null,"中崙國小"]
[null,"文華國小"]
[null,"鳳翔國小"]
["橋頭區","仕隆國小"]
[null,"五林國小"]
[null,"甲圍國小"]
[null,"興糖國小"]
[null,"橋頭國小"]
["燕巢區","燕巢國小"]
[null,"橫山國小"]
[null,"深水國小"]
[null,"安招國小"]
[null,"鳳雄國小"]
[null,"金山國小"]
["彌陀區","彌陀國小"]
[null,"南安國小"]
[null,"壽齡國小"]
["鹽埕區","鹽埕國小"]
[null,"忠孝國小2"]
[null,"光榮國小"]
["高雄區"]